BEGIN:VCALENDAR
VERSION:2.0
PRODID:-//Trawler-Calendar-Tool 0.2
METHOD:PUBLISH
BEGIN:VTIMEZONE
TZID:Europe/Berlin
BEGIN:STANDARD
TZNAME:CET
DTSTART:20100101T010000
RRULE:FREQ=YEARLY;BYDAY=-1SU;BYMONTH=10
TZOFFSETFROM:+0200
TZOFFSETTO:+0100
END:STANDARD
BEGIN:DAYLIGHT
TZNAME:CEST
DTSTART:20100101T010000
RRULE:FREQ=YEARLY;BYDAY=-1SU;BYMONTH=3
TZOFFSETFROM:+0100
TZOFFSETTO:+0200
END:DAYLIGHT
END:VTIMEZONE
X-WR-TIMEZONE:Europe/Berlin
X-ORIGINAL-URL:https://www.spd-coesfeld.de/termine/
BEGIN:VEVENT
DTSTART;TZID=Europe/Berlin:20260501T110000
DTEND;TZID=Europe/Berlin:20260501T130000
LOCATION:Lambertiplatz
SUMMARY:Mai-Kundgebung
DESCRIPTION:Coesfelder Gewerkschaften laden ein
   zur 
 
 Mai
   Kundgebung
 
 Lambertiplatz 3 vor der
   AWO
 Beginn 11:00 Uhr
 
 Maireder u.a. Ralf
   Steindorf
 
 Grussworte:
 Bürgermeisterin Eliza
   Diekmann
X-ALT-DESC;FMTTYPE=text/plain:Coesfelder Gewerkschaften laden ein
   zur&nbsp\;
 
 Mai
   Kundgebung
 
 Lambertiplatz 3 vor der
   AWO
 Beginn 11:00 Uhr
 
 Maireder u.a. Ralf
   Steindorf
 
 Grussworte:
 B&uuml\;rgermeisterin Eliza
   Diekmann
PRIORITY:5
UID:wscms293150-coesfeld-8ba17e2b00a3b1a1a5b781491410a39c
URL:https://www.spd-coesfeld.de/calendar293150.ics
END:VEVENT
END:VCALENDAR